BEGIN:VCALENDAR
VERSION:2.0
PRODID:-//ChamberMaster//Event Calendar 2.0//EN
METHOD:PUBLISH
X-PUBLISHED-TTL:P3D
REFRESH-INTERVAL:P3D
CALSCALE:GREGORIAN
BEGIN:VEVENT
DTSTART:20241205T163000Z
DTEND:20241205T180000Z
X-MICROSOFT-CDO-ALLDAYEVENT:FALSE
SUMMARY:2024 Annual Meeting
DESCRIPTION:We invite you to join us for our\n\n2024 ANNUAL MEETING\n\n\n\nThursday\, December 5th\, 2024\n\nMaple City Chapel\n\n11:30am - 1:30pm\n\n\n\nWe will have our Maple Leaf Awards\, Volunteer of the Year\, Community Contribution.  We will recognize our 2024 Board of Directors and our Incoming 2025 Board of Directors.\n\n\n\nJoin us as we look at the year in review and plan for the future!\n\n\n\nFor questions\, please call us at 574-533-2102
X-ALT-DESC;FMTTYPE=text/html:<h1 font-size:="" style="font-weight: normal\; line-height: 1.2\; color: rgb(51\, 51\, 51)\; font-family: sans-serif\, Arial\, Verdana\, &quot\;Trebuchet MS&quot\;\; background-color: rgb(255\, 255\, 255)\; text-align: center\;" text-align:="" trebuchet=""><span style="font-size: 20px\;"><strong>We invite you to join us for our</strong></span></h1>\n\n<p font-size:="" style="color: rgb(51\, 51\, 51)\; font-family: sans-serif\, Arial\, Verdana\, &quot\;Trebuchet MS&quot\;\; font-size: 13px\; background-color: rgb(255\, 255\, 255)\; text-align: center\;" text-align:="" trebuchet=""><span style="font-size: 20px\;"><strong><span style="color: rgb(178\, 34\, 34)\;">2024&nbsp\;ANNUAL MEETING</span><br />\n<br />\nThursday\, December 5th\, 2024<br />\nMaple City Chapel<br />\n11:30am - 1:30pm</strong></span></p>\n\n<p font-size:="" style="color: rgb(51\, 51\, 51)\; font-family: sans-serif\, Arial\, Verdana\, &quot\;Trebuchet MS&quot\;\; font-size: 13px\; background-color: rgb(255\, 255\, 255)\; text-align: center\;" text-align:="" trebuchet=""><br />\n<span style="font-size: 20px\;"><strong>We will have our Maple Leaf Awards\, Volunteer of the Year\, Community Contribution.&nbsp\; We will recognize our 2024&nbsp\;Board of Directors and our Incoming 2025&nbsp\;Board of Directors.<br />\n<br />\nJoin us as we look at the year in review and plan for the future!<br />\n<br />\nFor questions\, please call us&nbsp\;at 574-533-2102</strong></span></p>\n
LOCATION:Maple City Chapel 2015 Lincolnway East Goshen\, IN 46526
UID:e.689.25258
SEQUENCE:3
DTSTAMP:20260421T051105Z
URL:https://business.goshen.org/events/details/2024-annual-meeting-25258
END:VEVENT

END:VCALENDAR
