BEGIN:VCALENDAR
VERSION:2.0
PRODID:-//ChamberMaster//Event Calendar 2.0//EN
METHOD:PUBLISH
X-PUBLISHED-TTL:P3D
REFRESH-INTERVAL:P3D
CALSCALE:GREGORIAN
BEGIN:VEVENT
DTSTART:20211028T113000Z
DTEND:20211028T210000Z
X-MICROSOFT-CDO-ALLDAYEVENT:FALSE
SUMMARY:2021 CFO Summit presented by Kruggel Lawton CPAs
DESCRIPTION:This year's full-day event will address some of the more pressing challenges and issues CFOs and their organizations are facing during these times of tremendous challenge   and opportunity.\n\nFor those who are unable to attend our in-person event at the Essenhaus Inn & Conference Center\, we also offer the option to attend (virtually\, over the Internet) with Zoom video conferencing.\n\nCost to attend is only $100 per person and includes 8 hours of CPE credit\, continental breakfast\, and lunch.\n\nThe CFO's perspective serves as the foundation for every session we plan at CFO Summit. We will examine what's coming down the line in tax reform\, strategic planning\, HR\, technology and much more. That way\, you can map a confident course of action - one that will lead to success in the year ahead and beyond.\n\nWHO SHOULD ATTEND:\n\n\n	Chief Financial Officers (CFO)\n	Executive Vice Presidents of Finance (EVP)\n	CPAs in Private Industry\n	Controllers\n\n\nSESSION INFO*\n\n\n	Cybersecurity Is Not An IT Problem\, presented by Chris Keslin\, Vice President of Lachesis LLC\n	Timely Tax Update from Kruggel Lawton professionals\n	State of the Economy\, presented by Donald Livio\, CFA\, Vice President & Portfolio Strategist\, Merrill Lynch\n	Interactive CFO Panel:  Navigating the Pandemic   Year 2\n\n\n*Full-day agenda available soon.
X-ALT-DESC;FMTTYPE=text/html:<p>This year&rsquo\;s full-day event will address some of the more pressing challenges and issues CFOs and their organizations are facing during these times of tremendous challenge &ndash\; and opportunity.</p>\n\n<p>For those who are unable to attend our in-person event at the Essenhaus Inn &amp\; Conference Center\, we also offer the option to attend (virtually\, over the Internet) with Zoom video conferencing.</p>\n\n<p>Cost to attend is only $100 per person and includes 8 hours of CPE credit\, continental breakfast\, and lunch.</p>\n\n<p>The CFO&#39\;s perspective serves as the foundation for every session we plan at&nbsp\;CFO Summit. We will examine what&#39\;s coming down the line in tax reform\, strategic planning\, HR\, technology and much more. That way\, you can map a confident course of action - one that will lead to success in the year ahead and beyond.</p>\n\n<h2>WHO SHOULD ATTEND:</h2>\n\n<ul>\n	<li>Chief Financial Officers (CFO)</li>\n	<li>Executive Vice Presidents of Finance (EVP)</li>\n	<li>CPAs in Private Industry</li>\n	<li>Controllers</li>\n</ul>\n\n<h2>SESSION INFO*</h2>\n\n<ul>\n	<li><em>Cybersecurity Is Not An IT Problem</em>\,&nbsp\;presented by&nbsp\;<a href="https://www.linkedin.com/in/christopherkeslin/" style="box-sizing: border-box\; color: rgb(0\, 123\, 255)\; transition: all 250ms ease-in-out 0s\; outline-style: none\; text-decoration-line: none\; background-color: transparent\;">Chris Keslin</a>\, Vice President of&nbsp\;<a href="https://lachesisllc.com/about-us/" style="box-sizing: border-box\; color: rgb(0\, 123\, 255)\; transition: all 250ms ease-in-out 0s\; outline-style: none\; text-decoration-line: none\; background-color: transparent\;">Lachesis LLC</a></li>\n	<li><em>Timely Tax Update</em>&nbsp\;from Kruggel Lawton professionals</li>\n	<li><em>State of the Economy</em>\, presented by&nbsp\;<a href="https://www.linkedin.com/in/don-livio-cfa-7010121b/" style="box-sizing: border-box\; color: rgb(0\, 123\, 255)\; transition: all 250ms ease-in-out 0s\; outline-style: none\; text-decoration-line: none\; background-color: transparent\;">Donald Livio</a>\, CFA\, Vice President &amp\; Portfolio Strategist\,&nbsp\;<a href="https://www.ml.com/" style="box-sizing: border-box\; color: rgb(0\, 123\, 255)\; transition: all 250ms ease-in-out 0s\; outline-style: none\; text-decoration-line: none\; background-color: transparent\;">Merrill Lynch</a></li>\n	<li><em>Interactive CFO Panel:&nbsp\; Navigating the Pandemic &ndash\; Year 2</em></li>\n</ul>\n\n<p>*Full-day agenda available soon.</p>\n
LOCATION:Essenhaus Inn and Conference Center 240 U.S. 20 Middlebury\, IN 45640
UID:e.689.22673
SEQUENCE:3
DTSTAMP:20260421T115952Z
URL:https://business.goshen.org/events/details/2021-cfo-summit-presented-by-kruggel-lawton-cpas-22673
END:VEVENT

END:VCALENDAR
