BEGIN:VCALENDAR
VERSION:2.0
PRODID:-//ChamberMaster//Event Calendar 2.0//EN
METHOD:PUBLISH
X-PUBLISHED-TTL:P3D
REFRESH-INTERVAL:P3D
CALSCALE:GREGORIAN
BEGIN:VEVENT
DTSTART:20200312T140000Z
DTEND:20200312T180000Z
X-MICROSOFT-CDO-ALLDAYEVENT:FALSE
SUMMARY:2020 Founders' Day Event!
DESCRIPTION:Goshen Chamber Founders' Day\n\n40 Exhibitor Booths Available\n\nOver 400 Attendees\n\n\n\nKeynote Speaker\n\nMayor Jeremy Stutsman\n\n\n\n \n\nIf your business is celebrating a "Milestone Anniversary" call the Chamber so we can recognize you during the luncheon.
X-ALT-DESC;FMTTYPE=text/html:<div style="text-align: center\;">\n<div font-size:="" style="color: rgb(51\, 51\, 51)\; font-family: sans-serif\, Arial\, Verdana\, " text-align:="" trebuchet=""><span style="font-size: 20px\;"><strong>Goshen Chamber&nbsp\;Founders&#39\;&nbsp\;Day<br />\n40 Exhibitor Booths Available<br />\nOver 400 Attendees</strong></span></div>\n\n<div font-size:="" style="color: rgb(51\, 51\, 51)\; font-family: sans-serif\, Arial\, Verdana\, " text-align:="" trebuchet=""><br />\n<span style="font-size: 20px\;"><strong><u>Keynote Speaker</u><br />\nMayor Jeremy&nbsp\;Stutsman</strong></span></div>\n\n<div font-size:="" style="color: rgb(51\, 51\, 51)\; font-family: sans-serif\, Arial\, Verdana\, " text-align:="" trebuchet=""><br />\n&nbsp\;</div>\n\n<div font-size:="" style="color: rgb(51\, 51\, 51)\; font-family: sans-serif\, Arial\, Verdana\, " trebuchet=""><span style="font-size: 20px\;"><strong>If your business is celebrating a &quot\;Milestone Anniversary&quot\; call the Chamber so we can recognize you during the luncheon.</strong></span></div>\n</div>\n
LOCATION:Elkhart County 4-H Fairgrounds ECCC Building 17746 CR 34 Goshen\, IN 46528
UID:e.689.20414
SEQUENCE:3
DTSTAMP:20260422T204758Z
URL:https://business.goshen.org/events/details/2020-founders-day-event-20414
END:VEVENT

END:VCALENDAR
