BEGIN:VCALENDAR
VERSION:2.0
PRODID:-//ChamberMaster//Event Calendar 2.0//EN
METHOD:PUBLISH
X-PUBLISHED-TTL:P3D
REFRESH-INTERVAL:P3D
CALSCALE:GREGORIAN
BEGIN:VEVENT
DTSTART:20191205T163000Z
DTEND:20191205T183000Z
X-MICROSOFT-CDO-ALLDAYEVENT:FALSE
SUMMARY:2019 Annual Meeting
DESCRIPTION:Join us this year at Maple City Chapel (2015 Lincolnway East\; Goshen\, IN) as we celebrate a year of business.  The Goshen Chamber's Annual Meeting will recognize award winners including: Maple Leaf\, Large and Small Business\, Volunteer of the Year\, Community Contribution\, Recognition of Members of the 2019 Board of Directors\, and Introduction of 2020 Board Members.\n\n\n\nPurchase a table for your company\, or buy an individual ticket to attend.  A table of 8 is $320 and an individual ticket is $40.  \n\n\n\nIf you would like to help the event out\, please contact the Chamber office at 533-2102.  First is a Luncheon Sponsor\, that sponsorship is $525.00.  Or the Corporate Sponsor cost is $250.  Or finally\, the Business Sponsor of $150.
X-ALT-DESC;FMTTYPE=text/html:<div style="text-align: center\;"><span background-color:="" font-size:="" style="color: rgb(51\, 51\, 51)\; font-family: sans-serif\, Arial\, Verdana\, " trebuchet="">Join us this year at Maple City Chapel (2015&nbsp\;</span><span background-color:="" font-size:="" style="color: rgb(51\, 51\, 51)\; font-family: sans-serif\, Arial\, Verdana\, " trebuchet="">Lincolnway</span><span background-color:="" font-size:="" style="color: rgb(51\, 51\, 51)\; font-family: sans-serif\, Arial\, Verdana\, " trebuchet="">&nbsp\;East\; Goshen\, IN) as we celebrate a year of business.&nbsp\; The Goshen Chamber&#39\;s Annual Meeting will recognize award winners including:&nbsp\;</span><strong font-size:="" style="color: rgb(51\, 51\, 51)\; font-family: sans-serif\, Arial\, Verdana\, " trebuchet=""><span style="font-size: 12px\;">Maple Leaf\, Large and Small Business\,&nbsp\;Volunteer of the Year\, Community Contribution\,&nbsp\;Recognition of Members of the 2019&nbsp\;Board of Directors\, and&nbsp\;Introduction of 2020&nbsp\;Board Members.</span></strong><br font-size:="" style="color: rgb(51\, 51\, 51)\; font-family: sans-serif\, Arial\, Verdana\, " trebuchet="" />\n<br font-size:="" style="color: rgb(51\, 51\, 51)\; font-family: sans-serif\, Arial\, Verdana\, " trebuchet="" />\n<span font-size:="" style="color: rgb(51\, 51\, 51)\; font-family: sans-serif\, Arial\, Verdana\, " trebuchet="">Purchase a table for your company\, or buy an individual ticket to attend.&nbsp\; A table of 8 is $320 and an individual ticket is $40. &nbsp\;<br />\n<br />\nIf you would like to help the event out\, please contact the Chamber office at 533-2102. &nbsp\;First is a Luncheon Sponsor\, that sponsorship is $525.00.&nbsp\; Or the Corporate Sponsor cost is $250.&nbsp\; Or finally\, the Business Sponsor of $150.&nbsp\;&nbsp\;</span></div>\n
LOCATION:Maple City Chapel 2015 Lincolnway East Goshen\, IN
UID:e.689.18548
SEQUENCE:3
DTSTAMP:20260423T015245Z
URL:https://business.goshen.org/events/details/2019-annual-meeting-18548
END:VEVENT

END:VCALENDAR
