BEGIN:VCALENDAR
VERSION:2.0
PRODID:-//ChamberMaster//Event Calendar 2.0//EN
METHOD:PUBLISH
X-PUBLISHED-TTL:P3D
REFRESH-INTERVAL:P3D
CALSCALE:GREGORIAN
BEGIN:VEVENT
DTSTART:20180505T123000Z
DTEND:20180505T160000Z
X-MICROSOFT-CDO-ALLDAYEVENT:FALSE
SUMMARY:2018 Compassion Walk
DESCRIPTION:Easy Steps to Register for the Compassion Walk\n\n1) CLICK HERE TO MAKE YOUR COMPASSION WALK PAGE.\n\n2) Click to Download    2018 Walk Pledge Form OnLine.\n\n3) Select the Number of People Walking and/or Raising Funds.\n\n4) In the Comments Section below\, tell us your postal address and we will send you the Donation Envelope\, so you can track your Walk Donations.  Also\, please tell us the T-Shirt sizes that you need.  T-Shirts are available for everyone on your team who raises $30 or more.  If you don't have enough room in the Comments section\,  CLICK HERE TO EMAIL US.\n\n5) You can turn in your donations on Walk day.  Or\, you can bring donations to our office from 9 a.m. to 3 p.m. weekdays\, and you can also pick up your Walk T-Shirt ahead of Saturday.  We hope to have the shirts in by Wednesday\, May 2 and will update this site as we learn more about when they will be delivered.\n\n6) Feel free to call us at (574) 875-5158 with questions!\n\n7) THANK YOU FOR ALL YOUR WONDERFUL SUPPORT!
X-ALT-DESC;FMTTYPE=text/html:<p style="box-sizing: border-box\; margin: 0px\; padding: 0px 0px 1em\; border: 0px\; outline: 0px\; background: rgb(249\, 248\, 244)\; font-size: 18px\; vertical-align: baseline\; font-family: &quot\;Open Sans&quot\;\, Arial\, sans-serif\;"><span style="box-sizing: border-box\; margin: 0px\; padding: 0px\; border: 0px\; outline: 0px\; background: transparent\; font-size: 18pt\; vertical-align: baseline\; text-decoration-line: underline\;"><em style="box-sizing: border-box\; margin: 0px\; padding: 0px\; border: 0px\; outline: 0px\; background: transparent\; vertical-align: baseline\;"><strong style="box-sizing: border-box\; margin: 0px\; padding: 0px\; border: 0px\; outline: 0px\; background: transparent\; vertical-align: baseline\;">Easy Steps to Register for the Compassion Walk</strong></em></span></p>\n\n<p style="box-sizing: border-box\; margin: 0px\; padding: 0px 0px 1em\; border: 0px\; outline: 0px\; background: rgb(249\, 248\, 244)\; font-size: 18px\; vertical-align: baseline\; font-family: &quot\;Open Sans&quot\;\, Arial\, sans-serif\;"><span style="box-sizing: border-box\; margin: 0px\; padding: 0px\; border: 0px\; outline: 0px\; background: transparent\; font-size: 14pt\; vertical-align: baseline\;">1)&nbsp\;<a href="https://elkhartcancer.donorpages.com/CompassionWalk2018/register" style="box-sizing: border-box\; margin: 0px\; padding: 0px\; border: 0px\; outline: 0px\; background: transparent\; font-size: 18.6667px\; vertical-align: baseline\; color: rgb(1\, 127\, 123)\; text-decoration-line: none\;">CLICK HERE TO MAKE YOUR COMPASSION WALK PAGE.</a></span></p>\n\n<p style="box-sizing: border-box\; margin: 0px\; padding: 0px 0px 1em\; border: 0px\; outline: 0px\; background: rgb(249\, 248\, 244)\; font-size: 18px\; vertical-align: baseline\; font-family: &quot\;Open Sans&quot\;\, Arial\, sans-serif\;"><span style="box-sizing: border-box\; margin: 0px\; padding: 0px\; border: 0px\; outline: 0px\; background: transparent\; font-size: 14pt\; vertical-align: baseline\;">2)&nbsp\;</span><span style="box-sizing: border-box\; margin: 0px\; padding: 0px\; border: 0px\; outline: 0px\; background: transparent\; font-size: 14pt\; vertical-align: baseline\;">Click to Download &gt\;&gt\;&nbsp\;<a href="https://elkhartcancer.org/wp-content/uploads/2017/05/2018-Walk-Pledge-Form-OnLine.pdf" style="box-sizing: border-box\; margin: 0px\; padding: 0px\; border: 0px\; outline: 0px\; background: transparent\; font-size: 18.6667px\; vertical-align: baseline\; color: rgb(1\, 127\, 123)\; text-decoration-line: none\;">2018 Walk Pledge Form OnLine.</a></span></p>\n\n<p style="box-sizing: border-box\; margin: 0px\; padding: 0px 0px 1em\; border: 0px\; outline: 0px\; background: rgb(249\, 248\, 244)\; font-size: 18px\; vertical-align: baseline\; font-family: &quot\;Open Sans&quot\;\, Arial\, sans-serif\;"><span style="box-sizing: border-box\; margin: 0px\; padding: 0px\; border: 0px\; outline: 0px\; background: transparent\; font-size: 14pt\; vertical-align: baseline\;">3) Select the Number of People Walking and/or Raising Funds.</span></p>\n\n<p style="box-sizing: border-box\; margin: 0px\; padding: 0px 0px 1em\; border: 0px\; outline: 0px\; background: rgb(249\, 248\, 244)\; font-size: 18px\; vertical-align: baseline\; font-family: &quot\;Open Sans&quot\;\, Arial\, sans-serif\;"><span style="box-sizing: border-box\; margin: 0px\; padding: 0px\; border: 0px\; outline: 0px\; background: transparent\; font-size: 14pt\; vertical-align: baseline\;">4)&nbsp\;</span><span style="box-sizing: border-box\; margin: 0px\; padding: 0px\; border: 0px\; outline: 0px\; background: transparent\; font-size: 14pt\; vertical-align: baseline\;">In the Comments Section below\, tell us your postal address and we will send you the Donation Envelope\, so you can track your Walk Donations.&nbsp\; Also\, please tell us the T-Shirt sizes that you need.&nbsp\; T-Shirts are available for everyone on your team who raises $30 or more.&nbsp\; If you don&rsquo\;t have enough room in the Comments section\,&nbsp\;&nbsp\;<a href="mailto:info@elkhartcancer.org" style="box-sizing: border-box\; margin: 0px\; padding: 0px\; border: 0px\; outline: 0px\; background: transparent\; font-size: 18.6667px\; vertical-align: baseline\; color: rgb(1\, 127\, 123)\; text-decoration-line: none\;">CLICK HERE TO EMAIL US</a>.</span></p>\n\n<p style="box-sizing: border-box\; margin: 0px\; padding: 0px 0px 1em\; border: 0px\; outline: 0px\; background: rgb(249\, 248\, 244)\; font-size: 18px\; vertical-align: baseline\; font-family: &quot\;Open Sans&quot\;\, Arial\, sans-serif\;"><span style="box-sizing: border-box\; margin: 0px\; padding: 0px\; border: 0px\; outline: 0px\; background: transparent\; font-size: 14pt\; vertical-align: baseline\;">5) You can turn in your donations on Walk day.&nbsp\; Or\, you can bring donations to our office from 9 a.m. to 3 p.m. weekdays\, and you can also pick up your Walk T-Shirt ahead of Saturday.&nbsp\; We hope to have the shirts in by Wednesday\, May 2 and will update this site as we learn more about when they will be delivered.</span></p>\n\n<p style="box-sizing: border-box\; margin: 0px\; padding: 0px 0px 1em\; border: 0px\; outline: 0px\; background: rgb(249\, 248\, 244)\; font-size: 18px\; vertical-align: baseline\; font-family: &quot\;Open Sans&quot\;\, Arial\, sans-serif\;"><span style="box-sizing: border-box\; margin: 0px\; padding: 0px\; border: 0px\; outline: 0px\; background: transparent\; font-size: 14pt\; vertical-align: baseline\;">6) Feel free to call us at (574) 875-5158 with questions!</span></p>\n\n<p style="box-sizing: border-box\; margin: 0px\; padding: 0px 0px 1em\; border: 0px\; outline: 0px\; background: rgb(249\, 248\, 244)\; font-size: 18px\; vertical-align: baseline\; font-family: &quot\;Open Sans&quot\;\, Arial\, sans-serif\;"><strong style="box-sizing: border-box\; margin: 0px\; padding: 0px\; border: 0px\; outline: 0px\; background: transparent\; vertical-align: baseline\;"><span style="box-sizing: border-box\; margin: 0px\; padding: 0px\; border: 0px\; outline: 0px\; background: transparent\; font-size: 14pt\; vertical-align: baseline\;">7) THANK YOU FOR ALL YOUR WONDERFUL SUPPORT!</span></strong></p>\n
LOCATION:Elkhart Central High School
UID:e.689.17791
SEQUENCE:3
DTSTAMP:20260424T133752Z
URL:https://business.goshen.org/events/details/2018-compassion-walk-17791
END:VEVENT

END:VCALENDAR
