BEGIN:VCALENDAR
VERSION:2.0
PRODID:-//ChamberMaster//Event Calendar 2.0//EN
METHOD:PUBLISH
X-PUBLISHED-TTL:P3D
REFRESH-INTERVAL:P3D
CALSCALE:GREGORIAN
BEGIN:VEVENT
DTSTART:20180926T103000Z
DTEND:20180926T123000Z
X-MICROSOFT-CDO-ALLDAYEVENT:FALSE
SUMMARY:2018 COMMUNITY SCREENING DAY
DESCRIPTION:Health screenings can give you important information about your health. They can also identify an illness or serious health condition that may need medical care. Our healthcare professionals will answer your questions and can make simple recommendations for a healthier lifestyle based on your results. Free screenings Blood pressure\, pulse and blood oxygen level Body mass index Bone density heel scan Carbon monoxide check Diabetes risk assessment Diabetic foot screening Fitness assessment Skin cancer risk screening Sleep disorders risk assessment * Screenings with a fee (registration required) Cholesterol screening (fasting) $20 Echocardiogram screening $25 Vascular screening $50 To register\, call (877) 566-4660 or visit bit.ly/CommunityScreeningDay. Must register and prepay by September 24 to guarantee an appointment. Some screenings have eligibility requirements.
X-ALT-DESC;FMTTYPE=text/html:Health screenings can give you important information about your health. They can also identify an illness or serious health condition that may need medical care. Our healthcare professionals will answer your questions and can make simple recommendations for a healthier lifestyle based on your results. Free screenings Blood pressure\, pulse and blood oxygen level Body mass index Bone density heel scan Carbon monoxide check Diabetes risk assessment Diabetic foot screening Fitness assessment Skin cancer risk screening Sleep disorders risk assessment * Screenings with a fee (registration required) Cholesterol screening (fasting) $20 Echocardiogram screening $25 Vascular screening $50 To register\, call (877) 566-4660 or visit bit.ly/CommunityScreeningDay. Must register and prepay by September 24 to guarantee an appointment. Some screenings have eligibility requirements.
LOCATION:Goshen Hospital\, Arbor Conference Center 200 High Park Ave. Goshen\, IN 46526
UID:e.689.17881
SEQUENCE:3
DTSTAMP:20260424T071759Z
URL:https://business.goshen.org/events/details/2018-community-screening-day-09-26-2018-17881
END:VEVENT

END:VCALENDAR
