BEGIN:VCALENDAR
VERSION:2.0
PRODID:-//ChamberMaster//Event Calendar 2.0//EN
METHOD:PUBLISH
X-PUBLISHED-TTL:P3D
REFRESH-INTERVAL:P3D
CALSCALE:GREGORIAN
BEGIN:VEVENT
DTSTART:20170316T140000Z
DTEND:20170316T180000Z
X-MICROSOFT-CDO-ALLDAYEVENT:FALSE
SUMMARY:2017 Founder's Day
DESCRIPTION:Goshen Chamber's Founder's Day\n\n40 Exhibitor Booths Available\n\nOver 400 Attendees\n\n\n\nKeynote Speaker\n\nMayor Jeremy Stutsman\n\nw/State of the City Address\n\n\n\n \n\nIf your Business is celebrating a Milestone Anniversary call the Chamber so we can recognize you during the luncheon
X-ALT-DESC;FMTTYPE=text/html:<div style="text-align: center\;"><span style="font-size: 20px\;"><strong>Goshen Chamber&#39\;s Founder&#39\;s Day<br />\n40 Exhibitor Booths Available<br />\nOver 400 Attendees<br />\n<br />\n<u>Keynote Speaker</u><br />\nMayor Jeremy Stutsman<br />\nw/State of the City Address</strong></span><br />\n<br />\n&nbsp\;</div>\n\n<div><span style="font-size: 20px\;"><strong>If your Business is celebrating a Milestone Anniversary call the Chamber so we can recognize you during the luncheon</strong></span></div>\n
LOCATION:Elkhart County 4H Fairgrounds ECCC Building 17746 CR 34 Goshen\, IN 46528
UID:e.689.16340
SEQUENCE:3
DTSTAMP:20260425T122137Z
URL:https://business.goshen.org/events/details/2017-founder-s-day-16340
END:VEVENT

END:VCALENDAR
