BEGIN:VCALENDAR
VERSION:2.0
PRODID:-//ChamberMaster//Event Calendar 2.0//EN
METHOD:PUBLISH
X-PUBLISHED-TTL:P3D
REFRESH-INTERVAL:P3D
CALSCALE:GREGORIAN
BEGIN:VEVENT
DTSTART:20171006T220000Z
DTEND:20171007T000000Z
X-MICROSOFT-CDO-ALLDAYEVENT:FALSE
SUMMARY:2017 FLU SHOTS
DESCRIPTION:Flu shots will be available to the community this flu season. Must be over 10 years of age and have a parent/guardian signature if under 18. Cost is $25 payable by cash\, check or credit card. See schedule and locations below. No registration necessary. For more information\, call (574) 364-2496.
X-ALT-DESC;FMTTYPE=text/html:Flu shots will be available to the community this flu season. Must be over 10 years of age and have a parent/guardian signature if under 18. Cost is $25 payable by cash\, check or credit card. See schedule and locations below. No registration necessary. For more information\, call (574) 364-2496.
LOCATION:Goshen First Fridays\, JoJo's Pretzels 136 South Main St.\, Goshen\, IN 46526
UID:e.689.16969
SEQUENCE:3
DTSTAMP:20260425T004853Z
URL:https://business.goshen.org/events/details/2017-flu-shots-10-06-2017-16969
END:VEVENT

END:VCALENDAR
