BEGIN:VCALENDAR
VERSION:2.0
PRODID:-//ChamberMaster//Event Calendar 2.0//EN
METHOD:PUBLISH
X-PUBLISHED-TTL:P3D
REFRESH-INTERVAL:P3D
CALSCALE:GREGORIAN
BEGIN:VEVENT
DTSTART:20170310T140000Z
DTEND:20170310T200000Z
X-MICROSOFT-CDO-ALLDAYEVENT:FALSE
SUMMARY:2017 Elkhart County Children's Summit
DESCRIPTION:The Elkhart County Juvenile Court and Community Foundation of Elkhart County presents the 2017 Elkhart County Children's Summit: Empowering Knowledge Through Perspective. Elkhart County youth care workers\, case managers\, law enforcement professionals and others who work to improve the health and welfare of children are invited to attend this 9th annual daylong event featuring keynote speakers on child issues\, opportunities for networking and continuing education credits. Registration is $20 per individual\, $35 for a table in the service fair. Registration is capped at 400. Payment due prior to event.
X-ALT-DESC;FMTTYPE=text/html:The Elkhart County Juvenile Court and Community Foundation of Elkhart County presents the 2017 Elkhart County Children&rsquo\;s Summit: Empowering Knowledge Through Perspective. Elkhart County youth care workers\, case managers\, law enforcement professionals and others who work to improve the health and welfare of children are invited to attend this 9th annual daylong event featuring keynote speakers on child issues\, opportunities for networking and continuing education credits. Registration is $20 per individual\, $35 for a table in the service fair. Registration is capped at 400. Payment due prior to event.
LOCATION:Maple City Chapel 2015 Lincolnway E. Goshen\, IN 46526
UID:e.689.16393
SEQUENCE:3
DTSTAMP:20260425T122626Z
URL:https://business.goshen.org/events/details/2017-elkhart-county-children-s-summit-16393
END:VEVENT

END:VCALENDAR
