BEGIN:VCALENDAR
VERSION:2.0
PRODID:-//ChamberMaster//Event Calendar 2.0//EN
METHOD:PUBLISH
X-PUBLISHED-TTL:P3D
REFRESH-INTERVAL:P3D
CALSCALE:GREGORIAN
BEGIN:VEVENT
DTSTART:20171207T163000Z
DTEND:20171207T183000Z
X-MICROSOFT-CDO-ALLDAYEVENT:FALSE
SUMMARY:2017 Annual Meeting
DESCRIPTION:Join us this year at Maple City Chapel (2015 Lincolnway East\; Goshen\, IN) as we celebrate a year of business.  The Goshen Chamber's Annual Meeting will recognize award winners including: Maple Leaf\, Large and Small Business\, Volunteer of the Year\, Community Contribution\, Recognition of Members of the 2017 Board of Directors\, and Introduction of 2018 Board Members.\n\n\n\nPurchase a table for your company\, or buy an individual ticket to attend.  A table of 8 is $320 and an individual ticket is $40.  \n\n\n\nThe Goshen Chamber is also in need of some sponsors for the event.  We have two levels to help us in: first is a Gold Sponsor.  The Gold Sponsor cost is $150.  The second level is a Silver Sponsor.  The cost of the Silver Sponsor is $100.  Sponsorships get you recognition at the event\, program\, and in the business journal.
X-ALT-DESC;FMTTYPE=text/html:<br font-size:="" style="color: rgb(51\, 51\, 51)\; font-family: sans-serif\, Arial\, Verdana\, " trebuchet="" />\n<span background-color:="" font-size:="" style="color: rgb(51\, 51\, 51)\; font-family: sans-serif\, Arial\, Verdana\, " trebuchet="">Join us this year at Maple City Chapel (2015&nbsp\;</span>Lincolnway<span background-color:="" font-size:="" style="color: rgb(51\, 51\, 51)\; font-family: sans-serif\, Arial\, Verdana\, " trebuchet="">&nbsp\;East\; Goshen\, IN) as we celebrate a year of business.&nbsp\; The Goshen Chamber&#39\;s Annual Meeting will recognize award winners including:&nbsp\;</span><strong font-size:="" style="color: rgb(51\, 51\, 51)\; font-family: sans-serif\, Arial\, Verdana\, " trebuchet=""><span style="font-size: 12px\;">Maple Leaf\, Large and Small Business\,&nbsp\;Volunteer of the Year\, Community Contribution\,&nbsp\;Recognition of Members of the 2017 Board of Directors\, and&nbsp\;Introduction of 2018 Board Members.</span></strong><br font-size:="" style="color: rgb(51\, 51\, 51)\; font-family: sans-serif\, Arial\, Verdana\, " trebuchet="" />\n<br font-size:="" style="color: rgb(51\, 51\, 51)\; font-family: sans-serif\, Arial\, Verdana\, " trebuchet="" />\n<span font-size:="" style="color: rgb(51\, 51\, 51)\; font-family: sans-serif\, Arial\, Verdana\, " trebuchet="">Purchase a table for your company\, or buy an individual ticket to attend.&nbsp\; A table of 8 is $320 and an individual ticket is $40. &nbsp\;<br />\n<br />\nThe Goshen Chamber is also in need of some sponsors for the event.&nbsp\; We have two levels to help us in: first is a Gold Sponsor.&nbsp\; The Gold Sponsor cost is $150.&nbsp\; The second level is a Silver Sponsor.&nbsp\; The cost of the Silver Sponsor is $100.&nbsp\; Sponsorships get you recognition at the event\, program\, and in the business journal.</span>
LOCATION:Maple City Chapel\, Inc. 2015 Lincolnway East Goshen\, IN 46526
UID:e.689.16976
SEQUENCE:3
DTSTAMP:20260424T214757Z
URL:https://business.goshen.org/events/details/2017-annual-meeting-16976
END:VEVENT

END:VCALENDAR
