BEGIN:VCALENDAR
VERSION:2.0
PRODID:-//ChamberMaster//Event Calendar 2.0//EN
METHOD:PUBLISH
X-PUBLISHED-TTL:P3D
REFRESH-INTERVAL:P3D
CALSCALE:GREGORIAN
BEGIN:VEVENT
DTSTART:20160820T120000Z
DTEND:20160820T160000Z
X-MICROSOFT-CDO-ALLDAYEVENT:FALSE
SUMMARY:2016 Rock the Quarry Triathlon
DESCRIPTION:2016 Rock the Quarry Triathlon: Attention triathletes and swimmers- you definitely want to put this one on your calendar! Fidler Pond will be open to the public for both a triathlon and a mile swim event on Saturday\, August 20\, 2016! This is pristine water\, very clean and clear- a special\, destination swim experience! For one day only\, the public have access to swim in the water. It?s a point to point swim\, so you get to swim across the pond! People can participate in the triathlon as individuals or as part of a 2 or 3 person team. Sprint Triathlon 500 Yard Swim * 15.8 Mile Bike * 5K Run Mile Swim Event Swimmers! This is a rare opportunity to swim in a quarry - deep\, clean\, clear water\; no weeds\, quite the swim experience. This is probably not the best choice for your first open water swim as the water is very deep\, so you will not be able to touch the bottom once you embark across the lake. For more information or to register\, visit: www.rockthequarrygoshen.com
X-ALT-DESC;FMTTYPE=text/html:2016 Rock the Quarry Triathlon: Attention triathletes and swimmers- you definitely want to put this one on your calendar! Fidler Pond will be open to the public for both a triathlon and a mile swim event on Saturday\, August 20\, 2016! This is pristine water\, very clean and clear- a special\, destination swim experience! For one day only\, the public have access to swim in the water. It?s a point to point swim\, so you get to swim across the pond! People can participate in the triathlon as individuals or as part of a 2 or 3 person team. Sprint Triathlon 500 Yard Swim * 15.8 Mile Bike * 5K Run Mile Swim Event Swimmers! This is a rare opportunity to swim in a quarry - deep\, clean\, clear water\; no weeds\, quite the swim experience. This is probably not the best choice for your first open water swim as the water is very deep\, so you will not be able to touch the bottom once you embark across the lake. For more information or to register\, visit: www.rockthequarrygoshen.com
LOCATION:Fidler Pond Park 1424 Lincolnway East Goshen
UID:e.689.15415
SEQUENCE:3
DTSTAMP:20260425T233149Z
URL:https://business.goshen.org/events/details/2016-rock-the-quarry-triathlon-08-20-2016-15415
END:VEVENT

END:VCALENDAR
