BEGIN:VCALENDAR
VERSION:2.0
PRODID:-//ChamberMaster//Event Calendar 2.0//EN
METHOD:PUBLISH
X-PUBLISHED-TTL:P3D
REFRESH-INTERVAL:P3D
CALSCALE:GREGORIAN
BEGIN:VEVENT
DTSTART:20160506T220000Z
DTEND:20160507T000000Z
X-MICROSOFT-CDO-ALLDAYEVENT:FALSE
SUMMARY:2016 Mother & Son Dance!
DESCRIPTION:Mark your calendar and get your tickets for this lively evening that just got even better! This year?s event will be held at the Elkhart County 4-H Fairgrounds\, Goshen\, to better accommodate the overwhelming response we receive for this awesomely entertaining mom and son night out. Event will include a professional DJ who will provide a vast selection of music for many fad\, novelty and open dances\, refreshments and mementos. Memory photos will be offered and available for purchase at the event. The event will take place on Friday\, May 6\, 6?8 pm. Tickets are now available for purchase at the Goshen Parks Office now until capacity is met. Tickets are $12 each (seating is very limited\, so please get your tickets early to ensure availability).
X-ALT-DESC;FMTTYPE=text/html:Mark your calendar and get your tickets for this lively evening that just got even better! This year?s event will be held at the Elkhart County 4-H Fairgrounds\, Goshen\, to better accommodate the overwhelming response we receive for this awesomely entertaining mom and son night out. Event will include a professional DJ who will provide a vast selection of music for many fad\, novelty and open dances\, refreshments and mementos. Memory photos will be offered and available for purchase at the event. The event will take place on Friday\, May 6\, 6?8 pm. Tickets are now available for purchase at the Goshen Parks Office now until capacity is met. Tickets are $12 each (seating is very limited\, so please get your tickets early to ensure availability).
LOCATION:
UID:e.689.15858
SEQUENCE:3
DTSTAMP:20260426T035646Z
URL:https://business.goshen.org/events/details/2016-mother-son-dance-05-06-2016-15858
END:VEVENT

END:VCALENDAR
