BEGIN:VCALENDAR
VERSION:2.0
PRODID:-//ChamberMaster//Event Calendar 2.0//EN
METHOD:PUBLISH
X-PUBLISHED-TTL:P3D
REFRESH-INTERVAL:P3D
CALSCALE:GREGORIAN
BEGIN:VEVENT
DTSTART:20160709T120000Z
DTEND:20160709T150000Z
X-MICROSOFT-CDO-ALLDAYEVENT:FALSE
SUMMARY:2016 Kids' & Teens' Try-Athlon
DESCRIPTION:Kerry's Kids 12th Annual Kids' and Teens' Try-Athlon is taking place on Saturday\, July 9\, at Shanklin Park\, 411 W. Plymouth Avenue in Goshen. This exhilarating event is offered to anyone ages 5?18 wishing to take part. With families\, friends and spectators\, this event draws more than 500 people to Shanklin Park on the day of the Try-Athlon. Our event is conducted much like a traditional triathlon\; participants begin with the swimming competition\, then move right along to the bike route and finish with the run portion of the race. All participants compete in all three portions of the race consecutively. Racers compete with those in their swimming status group\, gender group and age group. This is a professionally chip timed race. Ages 5 - 12: Swim 25 meters\; Bike 1.2 miles\; Run 0.5 miles Ages 13 - 18: Swim 75 meters\; Bike 1.2 miles\; Run 3.1 miles Sign up now at the Park Office\, 607 W. Plymouth Avenue in Goshen\; open Monday - Friday\, 7 am - 4 pm. Call (574) 534-2901 for more information.
X-ALT-DESC;FMTTYPE=text/html:Kerry&#39\;s Kids 12th Annual Kids&#39\; and Teens&#39\; Try-Athlon is taking place on Saturday\, July 9\, at Shanklin Park\, 411 W. Plymouth Avenue in Goshen. This exhilarating event is offered to anyone ages 5?18 wishing to take part. With families\, friends and spectators\, this event draws more than 500 people to Shanklin Park on the day of the Try-Athlon. Our event is conducted much like a traditional triathlon\; participants begin with the swimming competition\, then move right along to the bike route and finish with the run portion of the race. All participants compete in all three portions of the race consecutively. Racers compete with those in their swimming status group\, gender group and age group. This is a professionally chip timed race. Ages 5 - 12: Swim 25 meters\; Bike 1.2 miles\; Run 0.5 miles Ages 13 - 18: Swim 75 meters\; Bike 1.2 miles\; Run 3.1 miles Sign up now at the Park Office\, 607 W. Plymouth Avenue in Goshen\; open Monday - Friday\, 7 am - 4 pm. Call (574) 534-2901 for more information.
LOCATION:Shanklin Park 411 W. Plymouth Avenue Goshen
UID:e.689.15414
SEQUENCE:3
DTSTAMP:20260426T004600Z
URL:https://business.goshen.org/events/details/2016-kids-teens-try-athlon-07-09-2016-15414
END:VEVENT

END:VCALENDAR
