BEGIN:VCALENDAR
VERSION:2.0
PRODID:-//ChamberMaster//Event Calendar 2.0//EN
METHOD:PUBLISH
X-PUBLISHED-TTL:P3D
REFRESH-INTERVAL:P3D
CALSCALE:GREGORIAN
BEGIN:VEVENT
DTSTART:20161201T163000Z
DTEND:20161201T183000Z
X-MICROSOFT-CDO-ALLDAYEVENT:FALSE
SUMMARY:2016 Annual Meeting
DESCRIPTION:Click Here for a Registration Flier\n\nJoin us this year at Maple City Chapel (2015 Lincolnway East\; Goshen\, IN) as we celebrate a year of business.  The Goshen Chamber's Annual Meeting will recognize award winners including: Maple Leaf\, Large and Small Business\, Volunteer of the Year\, Member of the Year\, Community Contribution\, Recognition of Members of the 2016 Board of Directors\, and Introduction of 2017 Board Members.\n\n\n\nPurchase a table for your company\, or buy an individual ticket to attend.  A table of 8 is $320 and an individual ticket is $40.  \n\n\n\nThe Goshen Chamber is also in need of some sponsors for the event.  We have two levels to help us in: first is a Gold Sponsor.  The Gold Sponsor cost is $150.  The second level is a Silver Sponsor.  The cost of the Silver Sponsor is $100.  Sponsorships get you recognition at the event\, program\, and in the business journal.
X-ALT-DESC;FMTTYPE=text/html:<a href="https://chambermaster.blob.core.windows.net/userfiles/UserFiles/chambers/689/File/flier4.pdf"><span style="font-size:16px\;"><span style="color: rgb(0\, 0\, 255)\;"><span background-color:="" font-size:="" trebuchet=""><strong>Click Here for a Registration Flier</strong></span></span></span></a><br />\n<span background-color:="" font-size:="" style="color: rgb(51\, 51\, 51)\; font-family: sans-serif\, Arial\, Verdana\, " trebuchet="">Join us this year at Maple City Chapel (2015&nbsp\;</span>Lincolnway<span background-color:="" font-size:="" style="color: rgb(51\, 51\, 51)\; font-family: sans-serif\, Arial\, Verdana\, " trebuchet="">&nbsp\;East\; Goshen\, IN) as we celebrate a year of business.&nbsp\; The Goshen Chamber&#39\;s Annual Meeting will recognize award winners including:&nbsp\;</span><strong font-size:="" style="color: rgb(51\, 51\, 51)\; font-family: sans-serif\, Arial\, Verdana\, " trebuchet=""><span style="font-size: 12px\;">Maple Leaf\, Large and Small Business\,&nbsp\;Volunteer of the Year\, Member of the Year\, Community Contribution\,&nbsp\;Recognition of Members of the 2016 Board of Directors\, and&nbsp\;Introduction of 2017 Board Members.</span></strong><br font-size:="" style="color: rgb(51\, 51\, 51)\; font-family: sans-serif\, Arial\, Verdana\, " trebuchet="" />\n<br font-size:="" style="color: rgb(51\, 51\, 51)\; font-family: sans-serif\, Arial\, Verdana\, " trebuchet="" />\n<span font-size:="" style="color: rgb(51\, 51\, 51)\; font-family: sans-serif\, Arial\, Verdana\, " trebuchet="">Purchase a table for your company\, or buy an individual ticket to attend.&nbsp\; A table of 8 is $320 and an individual ticket is $40. &nbsp\;<br />\n<br />\nThe Goshen Chamber is also in need of some sponsors for the event.&nbsp\; We have two levels to help us in: first is a Gold Sponsor.&nbsp\; The Gold Sponsor cost is $150.&nbsp\; The second level is a Silver Sponsor.&nbsp\; The cost of the Silver Sponsor is $100.&nbsp\; Sponsorships get you recognition at the event\, program\, and in the business journal.</span>
LOCATION:Maple City Chapel\, Inc. 2015 Lincolnway East Goshen\, IN 46526
UID:e.689.16263
SEQUENCE:3
DTSTAMP:20260425T172339Z
URL:https://business.goshen.org/events/details/2016-annual-meeting-16263
END:VEVENT

END:VCALENDAR
