BEGIN:VCALENDAR
VERSION:2.0
PRODID:-//ChamberMaster//Event Calendar 2.0//EN
METHOD:PUBLISH
X-PUBLISHED-TTL:P3D
REFRESH-INTERVAL:P3D
CALSCALE:GREGORIAN
BEGIN:VEVENT
DTSTART:20180710T213000Z
DTEND:20180711T000000Z
X-MICROSOFT-CDO-ALLDAYEVENT:FALSE
SUMMARY:100 Women Who Care
DESCRIPTION:The 100 Women Who Care Elkhart County is a group of local women who care deeply about Elkhart County and impacting their community. This group gathers four times a year for a one-hour meeting. Each participant writes a $100 check to be given to a charity that the group selects. This combined donation of $10\,000 makes a real impact\, without time-consuming fundraising events and planning. The mission and hope is to provide for those in greatest need in Elkhart County. The Community Foundation is a proud partner of 100 Women Who Care.
X-ALT-DESC;FMTTYPE=text/html:The 100 Women Who Care Elkhart County is a group of local women who care deeply about Elkhart County and impacting their community. This group gathers four times a year for a one-hour meeting. Each participant writes a $100 check to be given to a charity that the group selects. This combined donation of $10\,000 makes a real impact\, without time-consuming fundraising events and planning. The mission and hope is to provide for those in greatest need in Elkhart County. The Community Foundation is a proud partner of 100 Women Who Care.
LOCATION:Matterhorn Conference Center 2041 Cassopolis Street Elkhart\, IN 46514
UID:e.689.17848
SEQUENCE:3
DTSTAMP:20260424T092737Z
URL:https://business.goshen.org/events/details/100-women-who-care-17848
END:VEVENT

END:VCALENDAR
